BEGIN:VCALENDAR
VERSION:2.0
PRODID:Events Booking
BEGIN:VEVENT
UID:69e911b954867
SUMMARY:20th ESA Investor Forum
DESCRIPTION:Das 20. ESA Investor Forum findet am 9. und 10. Dezember in Fra
 nkfurt\, Deutschlands Finanzzentrum\, statt.
 Die Veranstaltung wird Regi
 erungs- und öffentliche Institutionen\, Finanzierungsexperten sowie wegwe
 isende Raumfahrtunternehmen zusammenbringen\, um die wichtigsten aktuellen
  kommerziellen Dynamiken und Programme in Europa besser zu verstehen und z
 u diskutieren.
 Das 20. ESA Investor Forum wird wichtige Marktchancen im 
 Raumfahrtsektor für europäische Investoren hervorheben. Hochkarätige Ke
 ynotes und Podiumsdiskussionen zu den neuesten wirtschaftlichen\, technolo
 gischen und politischen Treibern der Branche stehen ebenso auf dem Program
 m wie Pitches von europäischen Industrieakteuren.
DTSTART:20241208T230000Z
DTEND:20241209T230000Z
DTSTAMP:20240711T060151Z
ORGANIZER;CN=cesah GmbH - Centrum für Satellitennavigation Hessen:MAILTO:c
 ms@cesah.net
END:VEVENT
END:VCALENDAR